BEGIN:VCALENDAR
VERSION:2.0
PRODID:-//Cross Country Powersports - ECPv6.15.15//NONSGML v1.0//EN
CALSCALE:GREGORIAN
METHOD:PUBLISH
X-ORIGINAL-URL:https://www.crosscountrypowersports.com
X-WR-CALDESC:Events for Cross Country Powersports
REFRESH-INTERVAL;VALUE=DURATION:PT1H
X-Robots-Tag:noindex
X-PUBLISHED-TTL:PT1H
BEGIN:VTIMEZONE
TZID:UTC
BEGIN:STANDARD
TZOFFSETFROM:+0000
TZOFFSETTO:+0000
TZNAME:UTC
DTSTART:20250101T000000
END:STANDARD
END:VTIMEZONE
BEGIN:VEVENT
DTSTART;TZID=UTC:20260425T100000
DTEND;TZID=UTC:20260425T163000
DTSTAMP:20260425T174141
CREATED:20260331T134737Z
LAST-MODIFIED:20260331T144233Z
UID:6229-1777111200-1777134600@www.crosscountrypowersports.com
SUMMARY:MOTO GP SATURDAY LIVE
DESCRIPTION:MOTO GP Saturday LIVE \nJoin us for a full day of high-octane action as we stream MotoGP Free Practice\, Qualifying\, and the Sprint Race—all in one place. Fuel your passion with premium coffee\, fresh pastries\, muffins\, and snacks while you soak in every lap alongside fellow riders and race enthusiasts. \nCome for the racing\, stay for the community—experience MotoGP like never before.
URL:https://www.crosscountrypowersports.com/event/moto-gp-saturday-live/
ATTACH;FMTTYPE=image/png:https://www.crosscountrypowersports.com/wp-content/uploads/2026/03/MOTO-GP-SATURDAY-LIVE.png
END:VEVENT
END:VCALENDAR