BEGIN:VCALENDAR
VERSION:2.0
PRODID:-//Cross Country Powersports - ECPv6.15.15//NONSGML v1.0//EN
CALSCALE:GREGORIAN
METHOD:PUBLISH
X-WR-CALNAME:Cross Country Powersports
X-ORIGINAL-URL:https://www.crosscountrypowersports.com
X-WR-CALDESC:Events for Cross Country Powersports
REFRESH-INTERVAL;VALUE=DURATION:PT1H
X-Robots-Tag:noindex
X-PUBLISHED-TTL:PT1H
BEGIN:VTIMEZONE
TZID:UTC
BEGIN:STANDARD
TZOFFSETFROM:+0000
TZOFFSETTO:+0000
TZNAME:UTC
DTSTART:20250101T000000
END:STANDARD
END:VTIMEZONE
BEGIN:VEVENT
DTSTART;TZID=UTC:20260509T100000
DTEND;TZID=UTC:20260509T163000
DTSTAMP:20260425T192412
CREATED:20260401T134807Z
LAST-MODIFIED:20260401T134807Z
UID:6234-1778320800-1778344200@www.crosscountrypowersports.com
SUMMARY:MOTO GP SATURDAY LIVE
DESCRIPTION:MOTO GP Saturday LIVE \nJoin us for a full day of high-octane action as we stream MotoGP Free Practice\, Qualifying\, and the Sprint Race—all in one place. Fuel your passion with premium coffee\, fresh pastries\, muffins\, and snacks while you soak in every lap alongside fellow riders and race enthusiasts. \nCome for the racing\, stay for the community—experience MotoGP like never before.
URL:https://www.crosscountrypowersports.com/event/moto-gp-saturday-live-3/
ATTACH;FMTTYPE=image/png:https://www.crosscountrypowersports.com/wp-content/uploads/2026/03/MOTO-GP-SATURDAY-LIVE.png
END:VEVENT
BEGIN:VEVENT
DTSTART;TZID=UTC:20260516T100000
DTEND;TZID=UTC:20260516T163000
DTSTAMP:20260425T192412
CREATED:20260401T135106Z
LAST-MODIFIED:20260401T135106Z
UID:6236-1778925600-1778949000@www.crosscountrypowersports.com
SUMMARY:MOTO GP SATURDAY LIVE
DESCRIPTION:MOTO GP Saturday LIVE \nJoin us for a full day of high-octane action as we stream MotoGP Free Practice\, Qualifying\, and the Sprint Race—all in one place. Fuel your passion with premium coffee\, fresh pastries\, muffins\, and snacks while you soak in every lap alongside fellow riders and race enthusiasts. \nCome for the racing\, stay for the community—experience MotoGP like never before.
URL:https://www.crosscountrypowersports.com/event/moto-gp-saturday-live-4/
ATTACH;FMTTYPE=image/png:https://www.crosscountrypowersports.com/wp-content/uploads/2026/03/MOTO-GP-SATURDAY-LIVE.png
END:VEVENT
BEGIN:VEVENT
DTSTART;TZID=UTC:20260530T100000
DTEND;TZID=UTC:20260530T163000
DTSTAMP:20260425T192412
CREATED:20260401T135413Z
LAST-MODIFIED:20260401T135413Z
UID:6238-1780135200-1780158600@www.crosscountrypowersports.com
SUMMARY:MOTO GP SATURDAY LIVE
DESCRIPTION:MOTO GP Saturday LIVE \nJoin us for a full day of high-octane action as we stream MotoGP Free Practice\, Qualifying\, and the Sprint Race—all in one place. Fuel your passion with premium coffee\, fresh pastries\, muffins\, and snacks while you soak in every lap alongside fellow riders and race enthusiasts. \nCome for the racing\, stay for the community—experience MotoGP like never before.
URL:https://www.crosscountrypowersports.com/event/moto-gp-saturday-live-5/
ATTACH;FMTTYPE=image/png:https://www.crosscountrypowersports.com/wp-content/uploads/2026/03/MOTO-GP-SATURDAY-LIVE.png
END:VEVENT
BEGIN:VEVENT
DTSTART;TZID=UTC:20260606T100000
DTEND;TZID=UTC:20260606T163000
DTSTAMP:20260425T192412
CREATED:20260401T135423Z
LAST-MODIFIED:20260401T135423Z
UID:6239-1780740000-1780763400@www.crosscountrypowersports.com
SUMMARY:MOTO GP SATURDAY LIVE
DESCRIPTION:MOTO GP Saturday LIVE \nJoin us for a full day of high-octane action as we stream MotoGP Free Practice\, Qualifying\, and the Sprint Race—all in one place. Fuel your passion with premium coffee\, fresh pastries\, muffins\, and snacks while you soak in every lap alongside fellow riders and race enthusiasts. \nCome for the racing\, stay for the community—experience MotoGP like never before.
URL:https://www.crosscountrypowersports.com/event/moto-gp-saturday-live-6/
ATTACH;FMTTYPE=image/png:https://www.crosscountrypowersports.com/wp-content/uploads/2026/03/MOTO-GP-SATURDAY-LIVE.png
END:VEVENT
BEGIN:VEVENT
DTSTART;TZID=UTC:20260620T100000
DTEND;TZID=UTC:20260620T163000
DTSTAMP:20260425T192412
CREATED:20260401T135434Z
LAST-MODIFIED:20260401T135434Z
UID:6240-1781949600-1781973000@www.crosscountrypowersports.com
SUMMARY:MOTO GP SATURDAY LIVE
DESCRIPTION:MOTO GP Saturday LIVE \nJoin us for a full day of high-octane action as we stream MotoGP Free Practice\, Qualifying\, and the Sprint Race—all in one place. Fuel your passion with premium coffee\, fresh pastries\, muffins\, and snacks while you soak in every lap alongside fellow riders and race enthusiasts. \nCome for the racing\, stay for the community—experience MotoGP like never before.
URL:https://www.crosscountrypowersports.com/event/moto-gp-saturday-live-7/
ATTACH;FMTTYPE=image/png:https://www.crosscountrypowersports.com/wp-content/uploads/2026/03/MOTO-GP-SATURDAY-LIVE.png
END:VEVENT
END:VCALENDAR